Workbook

Sheet RESUMEN
B1: ANEXO II - Resolución Nº ,,,,,,, /,,,,,,,
A3: NOMENCLADOR ENUNCIATIVO DE SERVICIOS PROFESIONALES
A4: CONTADOR PUBLICO
A5: HONORARIOS MINIMOS SUGERIDOS- ENERO 2025
C7: IMPORTE S/NIVEL DE COMPLEJIDAD
C8: ALTO | D8: MEDIO | E8: BAJO
B9: 1º-CONSULTA PROFESIONAL
A10: 1.1. Consulta escrita | C10: =+'Consultas Prof'!J4 -> 123500 | D10: =+'Consultas Prof'!K4 -> 95000 | E10: =+'Consultas Prof'!L4 -> 47500
A11: 1.2. Consulta verbal | C11: =+'Consultas Prof'!J5 -> 76000 | D11: =+'Consultas Prof'!K5 -> 57000 | E11: =+'Consultas Prof'!L5 -> 28500
B13: 2º-ACTUACION PROFESIONAL EN MATERIA DE SOCIEDADES
A14: =+Nomenclador!A15 -> 2.1. Por cada representación con o sin patrocinio ante el Registro Público, Inspección General de Personas Jurídicas, Registro de Proveedores del Estado, Registro de Empresas y Variaciones de Costo Provincial, Municipalidad, y representaciones afines. | C14: =+Sociedades!J4 -> 237500 | D14: =+Sociedades!K4 -> 95000 | E14: =+Sociedades!L4 -> 28500
A15: 2.2. Por cada elaboración e inscripción de contrato o estatuto de sociedades comerciales, y sus modificaciones | C15: =+Sociedades!J5 -> 950000 | D15: =+Sociedades!K5 -> 475000 | E15: =+Sociedades!L5 -> 332500
A16: 2.3. Por otras inscripciones o actos de representación no previstos, ante reparticiones fiscales, previsionales, sociales y administrativas | C16: =+Sociedades!J6 -> 152000 | D16: =+Sociedades!K6 -> 114000 | E16: =+Sociedades!L6 -> 57000
B18: 3º-ACTUACION PROFESIONAL EN MATERIA LABORAL Y PREVISIONAL
A19: 3.1. Asesoramiento Laboral con confección de recibos, boletas y evacuación de información a bancos, reparticiones previsionales, sociales, sindicales y fiscales, con planillas en estudio
B20: 1 a 3 empleados | C20: =+'Laboral - Previsional'!J5 -> 342000 | D20: =+'Laboral - Previsional'!K5 -> 256500 | E20: =+'Laboral - Previsional'!L5 -> 142500
B21: 4 a 10 empleados | C21: =+'Laboral - Previsional'!J6 -> 570000 | D21: =+'Laboral - Previsional'!K6 -> 427500 | E21: =+'Laboral - Previsional'!L6 -> 228000
B22: 11 a 40 empleados | C22: =+'Laboral - Previsional'!J7 -> 1026000 | D22: =+'Laboral - Previsional'!K7 -> 769500 | E22: =+'Laboral - Previsional'!L7 -> 399000
B23: 41 a 80 empleados | C23: =+'Laboral - Previsional'!J8 -> 1425000 | D23: =+'Laboral - Previsional'!K8 -> 1083000 | E23: =+'Laboral - Previsional'!L8 -> 541500
B24: 81 en adelante | C24: =+'Laboral - Previsional'!J9 -> 1710000 | D24: =+'Laboral - Previsional'!K9 -> 1282500 | E24: =+'Laboral - Previsional'!L9 -> 655500
A25: 3.2. Determinación de deudas previsionales, sociales y sindicales | C25: =+'Laboral - Previsional'!J10 -> 199500 | D25: =+'Laboral - Previsional'!K10 -> 142500 | E25: =+'Laboral - Previsional'!L10 -> 57000
A26: 3.3. Actuación ante organismos laborales, previsionales, sociales o sindicales- participación en conciliaciones | C26: =+'Laboral - Previsional'!J11 -> 190000 | D26: =+'Laboral - Previsional'!K11 -> 142500 | E26: =+'Laboral - Previsional'!L11 -> 76000
A27: 3.4. Inscripción Completa en organismos conexos a la actividad laboral, en materia previsional, social, y sindical | C27: =+'Laboral - Previsional'!J12 -> 285000 | D27: =+'Laboral - Previsional'!K12 -> 218500 | E27: =+'Laboral - Previsional'!L12 -> 104500
B29: 4º- ACTUACION PROFESIONAL EN MATERIA TRIBUTARIA
A30: =+Tributaria!A4 -> 4.1. Inscripción ante Reparticiones Fiscales-Nacionales-Provinciales-Municipales - Por impuestos y Tasas | C30: =+Tributaria!J4 -> 152000 | D30: =+Tributaria!K4 -> 114000 | E30: =+Tributaria!L4 -> 57000
A31: =+Tributaria!A5 -> 4.2. Determinación de Impuesto a las Ganancias - Personas humanas y sucesiones indivisas | C31: =+Tributaria!J5 -> 380000 | D31: =+Tributaria!K5 -> 285000 | E31: =+Tributaria!L5 -> 142500
A32: =+Tributaria!A6 -> 4.3. Determinación de Impuestos Cedulares | C32: =+Tributaria!J6 -> 142500 | D32: =+Tributaria!K6 -> 114000 | E32: =+Tributaria!L6 -> 57000
A33: =+Tributaria!A7 -> 4.4. Impuesto sobre bienes personales | C33: =+Tributaria!J7 -> 209000 | D33: =+Tributaria!K7 -> 161500 | E33: =+Tributaria!L7 -> 76000
A34: =+Tributaria!A8 -> 4.5. Impuesto a las Ganancias - 4ta Cat DDJJ Informativa | C34: =+Tributaria!J8 -> 142500 | D34: =+Tributaria!K8 -> 114000 | E34: =+Tributaria!L8 -> 57000
A35: =+Tributaria!A9 -> 4.6. Impuesto al valor agregado e ingresos brutos provincial (Incluye Reg. Informativo) | C35: =+Tributaria!J9 -> 380000 | D35: =+Tributaria!K9 -> 190000 | E35: =+Tributaria!L9 -> 114000
A36: =+Tributaria!A10 -> 4.7. Convenio Multilateral - CM05 Anual | C36: =+Tributaria!J10 -> 142500 | D36: =+Tributaria!K10 -> 114000 | E36: =+Tributaria!L10 -> 57000
A37: =+Tributaria!A11 -> 4.8. Tasa de Registro e Inspección Municipal | C37: =+Tributaria!J11 -> 114000 | D37: =+Tributaria!K11 -> 57000 | E37: =+Tributaria!L11 -> 28500
A38: =+Tributaria!A12 -> 4.9. Impuesto a los bienes personales - acciones y participaciones societarias | C38: =+Tributaria!J12 -> 209000 | D38: =+Tributaria!K12 -> 161500 | E38: =+Tributaria!L12 -> 76000
A39: =+Tributaria!A13 -> 4.10. Impuesto a las ganancias sociedades | C39: =+Tributaria!J13 -> 475000 | D39: =+Tributaria!K13 -> 361000 | E39: =+Tributaria!L13 -> 180500
A40: =+Tributaria!A14 -> 4.11. Régimen Informativo Acciones-Participaciones Societarias | C40: =+Tributaria!J14 -> 142500 | D40: =+Tributaria!K14 -> 114000 | E40: =+Tributaria!L14 -> 57000
A41: =+Tributaria!A15 -> 4.12. Plan de facilidades de pago impositivo y moratorias: Valor según nivel de complejidad + 10% sobre ahorro obtenido | C41: =+Tributaria!J15 -> 209000 | D41: =+Tributaria!K15 -> 114000 | E41: =+Tributaria!L15 -> 76000
... A44: =+Tributaria!A18 -> 4.15. Gestiones relativas a levantamiento de embargos y ejecuciones fiscales (Sobre la Base sujeta a embargo) | C44: =+Tributaria!J18 -> 0.15 | D44: =+Tributaria!K18 -> 0.1 | E44: =+Tributaria!L18 -> 0.06
B46: 5º-ACTUACION PROF, ATENCIÓN MENSUAL INTEGRAL Y OTROS INFORMES
A47: =+'As Mensual'!A4:E4 -> 5.1.1. Asesoramiento mensual a Personas Humanas, registraciones de libros IVA, y liquidación de impuestos nac. prov. y municipales (No incluye las DDJJ anuales), sin liquidación de sueldos. - HONORARIO MENSUAL | C47: =+'As Mensual'!J4 -> 332500 | D47: =+'As Mensual'!K4 -> 190000 | E47: =+'As Mensual'!L4 -> 95000
A48: =+'As Mensual'!A5:E5 -> 5.1.2. Asesoramiento mensual a Personas Humanas, con liquidación de sueldos hasta 3 empleados, registraciones de libros IVA, y liquidación de impuestos nac. prov. y municipales. (No incluye las DDJJ anuales). (Adicional por mayor cantidad de empleados - Ver 3.1) - HONORARIO MENSUAL | C48: =+'As Mensual'!J5 -> 712500 | D48: =+'As Mensual'!K5 -> 475000 | E48: =+'As Mensual'!L5 -> 237500
...

Sheet Nomenclador
A1: CONSEJO PROFESIONAL DE CIENCIAS ECONOMICAS DE FORMOSA
A2: NOMENCLADOR ENUNCIATIVO Y COMPRENSIVO DE SERVICIOS PROFESIONALES POR HOMOGENEIDAD Y AFINIDAD | J2: ANEXO II
B5: 1º-CONSULTA PROFESIONAL
A6: 1.1. Consulta escrita
A7: 1.2. Consulta verbal
B14: 2º-ACTUACION PROFESIONAL EN MATERIA DE SOCIEDADES
A15: 2.1. Por cada representación con o sin patrocinio ante el Registro Público, Inspección General de Personas Jurídicas, Registro de Proveedores del Estado, Registro de Empresas y Variaciones de Costo Provincial, Municipalidad, y representaciones afines.
A16: 2.2. Por cada elaboración e inscripción de contrato o estatuto de sociedades comerciales, y sus modificaciones.
A17: 2.3. Por otras inscripciones o actos de representación no previstos, ante reparticiones fiscales, previsionales, sociales y administrativas
B23: 3º-ACTUACION PROFESIONAL EN MATERIA LABORAL Y PREVISIONAL
A24: 3.1. Asesoramiento laboral, confección de recibos de sueldos y presentación de declaraciones juradas ante reparticiones previsionales, sociales, sindicales y fiscales.
A25: 3.2. Determinación de deudas previsionales, sociales y sindicales
A26: 3.3. Actuación ante organismos laborales, previsionales, sociales o sindicales- participación en conciliaciones conciliaciones
A27: 3.4. Inscripción Completa en organismos conexos a la actividad laboral, en materia previsional, social, y sindical
B32: 4º- ACTUACION PROFESIONAL EN MATERIA TRIBUTARIA
A33: 4.1. Inscripción ante Reparticiones Fiscales-Nacionales-Provinciales-Municipales - Por impuestos y Tasas
A34: 4.2. Determinación de Impuesto a las Ganancias - Personas humanas y sucesiones indivisas
A35: 4.3. Determinación de Impuestos Cedulares
A36: 4.4. Impuesto sobre bienes personales
A37: 4.5. Impuesto a las Ganancias - 4ta Cat DDJJ Informativa
A38: 4.6. Impuesto al valor agregado e ingresos brutos provincial (Incluye Reg. Informativo)
A39: 4.7. Convenio Multilateral - CM05 Anual
A40: 4.8. Tasa de Registro e Inspección Municipal
A41: 4.9. Impuesto a los bienes personales - acciones y participaciones societarias
A42: 4.10. Impuesto a las ganancias sociedades
A43: 4.11. Régimen Informativo Acciones-Participaciones Societarias
A44: 4.12. Plan de facilidades de pago impositivo y moratorias: Valor según nivel de complejidad + 10% sobre ahorro obtenido
... A47: 4.15. Gestiones relativas a levantamiento de embargos y ejecuciones fiscales (Sobre la Base sujeta a embargo)
B50: 5º-ACTUACION PROFESIONAL EN ASESORAMIENTO, ATENCIÓN MENSUAL INTEGRAL y OTROS INFORMES
A51: 5.1.1. Asesoramiento mensual a Personas Humanas, registraciones de libros IVA, y liquidación de impuestos nac. prov. y municipales (No incluye las DDJJ anuales), sin liquidación de sueldos. - HONORARIO MENSUAL
A52: 5.1.2. Asesoramiento mensual a Personas Humanas, con liquidación de sueldos hasta 3 empleados, registraciones de libros IVA, y liquidación de impuestos nac. prov. y municipales. (No incluye las DDJJ anuales). (Adicional por mayor cantidad de empleados - Ver 3.1) - HONORARIO MENSUAL
A53: 5.2.1. Asesoramiento mensual a Personas Jurídicas, registro. de libros IVA, y liq. de impuestos nac. prov. y municipales (No incluye las DDJJ anuales), con inclusión de tareas contables, sin liquidación de sueldos. - HONORARIO MENSUAL
A54: 5.2.2. Asesoramiento mensual a Personas Jurídicas con liquidación de sueldos hasta 3 empleados, registr. de libros IVA, y liq. de impuestos nac. prov. y municipales. (No incluye las DDJJ anuales), con inclusión de tareas contables. (Ad. por mayor cantidad de empleados - Ver 3.1) - HONORARIO MENSUAL
A55: 5.3.1. Atención Mensual de contribuyente monotributista Cat A a D
A56: 5.3.2. Atención Mensual de contribuyente monotributista Cat E en Adelante
A57: 5.4. Atención Única Semestral de contribuyente monotributista - Recategorizaciones
A58: 5.5. Informe sobre ingresos personales
A59: 5.6. Informe sobre Origen y Licitud de Fondos
A60: 5.7. Emisión de Certificado COTI (Código de Oferta de Transferencia de Inmuebles)
A61: 5.8. Otros: Régimen de registración de contratos de locación de inmuebles (RELI-AFIP / RAI-ATP)
...

Sheet As Mensual
C1: NOMENCLADOR ENUNCIATIVO DE SERVICIOS PROFESIONALES HONORARIOS MINIMOS SUGERIDOS
A2: 5º-ACTUACION PROFESIONAL EN ASESORAMIENTO Y ATENCIÓN MENSUAL INTEGRAL | F2: CANTIDAD DE MAPRO | G2: NIVEL DE COMPLEJIDAD | J2: IMPORTE
G3: ALTO | H3: MEDIO | I3: BAJO | J3: ALTO | K3: MEDIO | L3: BAJO
A4: =Nomenclador!A51 -> 5.1.1. Asesoramiento mensual a Personas Humanas, registraciones de libros IVA, y liquidación de impuestos nac. prov. y municipales (No incluye las DDJJ anuales), sin liquidación de sueldos. - HONORARIO MENSUAL | F4: 70 | G4: 35 | H4: 20 | I4: 10 | J4: =INT((G4*'Valor Mod'!$H$6)/10)*10 -> 332500 | K4: =INT((H4*'Valor Mod'!$H$6)/10)*10 -> 190000 | L4: =INT((I4*'Valor Mod'!$H$6)/10)*10 -> 95000
A5: =Nomenclador!A52 -> 5.1.2. Asesoramiento mensual a Personas Humanas, con liquidación de sueldos hasta 3 empleados, registraciones de libros IVA, y liquidación de impuestos nac. prov. y municipales. (No incluye las DDJJ anuales). (Adicional por mayor cantidad de empleados - Ver 3.1) - HONORARIO MENSUAL | G5: 75 | H5: 50 | I5: 25 | J5: =INT((G5*'Valor Mod'!$H$6)/10)*10 -> 712500 | K5: =INT((H5*'Valor Mod'!$H$6)/10)*10 -> 475000 | L5: =INT((I5*'Valor Mod'!$H$6)/10)*10 -> 237500
A6: =Nomenclador!A53 -> 5.2.1. Asesoramiento mensual a Personas Jurídicas, registro. de libros IVA, y liq. de impuestos nac. prov. y municipales (No incluye las DDJJ anuales), con inclusión de tareas contables, sin liquidación de sueldos. - HONORARIO MENSUAL | G6: 50 | H6: 35 | I6: 15 | J6: =INT((G6*'Valor Mod'!$H$6)/10)*10 -> 475000 | K6: =INT((H6*'Valor Mod'!$H$6)/10)*10 -> 332500 | L6: =INT((I6*'Valor Mod'!$H$6)/10)*10 -> 142500
A7: =Nomenclador!A54 -> 5.2.2. Asesoramiento mensual a Personas Jurídicas con liquidación de sueldos hasta 3 empleados, registr. de libros IVA, y liq. de impuestos nac. prov. y municipales. (No incluye las DDJJ anuales), con inclusión de tareas contables. (Ad. por mayor cantidad de empleados - Ver 3.1) - HONORARIO MENSUAL | F7: 90 | G7: 100 | H7: 65 | I7: 30 | J7: =INT((G7*'Valor Mod'!$H$6)/10)*10 -> 950000 | K7: =INT((H7*'Valor Mod'!$H$6)/10)*10 -> 617500 | L7: =INT((I7*'Valor Mod'!$H$6)/10)*10 -> 285000
A8: =Nomenclador!A55 -> 5.3.1. Atención Mensual de contribuyente monotributista Cat A a D | F8: 7 | G8: 7 | H8: 5 | I8: 3 | J8: =INT((G8*'Valor Mod'!$H$6)/10)*10 -> 66500 | K8: =INT((H8*'Valor Mod'!$H$6)/10)*10 -> 47500 | L8: =INT((I8*'Valor Mod'!$H$6)/10)*10 -> 28500
A9: =Nomenclador!A56 -> 5.3.2. Atención Mensual de contribuyente monotributista Cat E en Adelante | F9: 16 | G9: 25 | H9: 15 | I9: 6 | J9: =INT((G9*'Valor Mod'!$H$6)/10)*10 -> 237500 | K9: =INT((H9*'Valor Mod'!$H$6)/10)*10 -> 142500 | L9: =INT((I9*'Valor Mod'!$H$6)/10)*10 -> 57000
A10: =Nomenclador!A57 -> 5.4. Atención Única Semestral de contribuyente monotributista - Recategorizaciones | F10: 12 | G10: 25 | H10: 15 | I10: 10 | J10: =INT((G10*'Valor Mod'!$H$6)/10)*10 -> 237500 | K10: =INT((H10*'Valor Mod'!$H$6)/10)*10 -> 142500 | L10: =INT((I10*'Valor Mod'!$H$6)/10)*10 -> 95000
A11: =Nomenclador!A58 -> 5.5. Informe sobre ingresos personales | F11: =+G11 -> 45 | G11: 45 | H11: 18 | I11: 9 | J11: =INT((G11*'Valor Mod'!$H$6)/10)*10 -> 427500 | K11: =INT((H11*'Valor Mod'!$H$6)/10)*10 -> 171000 | L11: =INT((I11*'Valor Mod'!$H$6)/10)*10 -> 85500
A12: =Nomenclador!A59 -> 5.6. Informe sobre Origen y Licitud de Fondos | F12: =+G12 -> 50 | G12: 50 | H12: 20 | I12: 9 | J12: =INT((G12*'Valor Mod'!$H$6)/10)*10 -> 475000 | K12: =INT((H12*'Valor Mod'!$H$6)/10)*10 -> 190000 | L12: =INT((I12*'Valor Mod'!$H$6)/10)*10 -> 85500
A13: =Nomenclador!A60 -> 5.7. Emisión de Certificado COTI (Código de Oferta de Transferencia de Inmuebles) | F13: =+G13 -> 35 | G13: 35 | H13: 15 | I13: 3 | J13: =INT((G13*'Valor Mod'!$H$6)/10)*10 -> 332500 | K13: =INT((H13*'Valor Mod'!$H$6)/10)*10 -> 142500 | L13: =INT((I13*'Valor Mod'!$H$6)/10)*10 -> 28500
A14: =Nomenclador!A61 -> 5.8. Otros: Régimen de registración de contratos de locación de inmuebles (RELI-AFIP / RAI-ATP) | F14: =+G14 -> 10 | G14: 10 | H14: 5 | I14: 2 | J14: =INT((G14*'Valor Mod'!$H$6)/10)*10 -> 95000 | K14: =INT((H14*'Valor Mod'!$H$6)/10)*10 -> 47500 | L14: =INT((I14*'Valor Mod'!$H$6)/10)*10 -> 19000
A15: =Nomenclador!A62 -> 5.9. Otros: Formulario 572 Web | G15: 10 | H15: 4 | I15: 2 | J15: =INT((G15*'Valor Mod'!$H$6)/10)*10 -> 95000 | K15: =INT((H15*'Valor Mod'!$H$6)/10)*10 -> 38000 | L15: =INT((I15*'Valor Mod'!$H$6)/10)*10 -> 19000
A16: =Nomenclador!A63 -> 5.10. Otros: Devolución Percepciones Sujetos No Inscriptos | G16: 15 | H16: 7 | I16: 3 | J16: =INT((G16*'Valor Mod'!$H$6)/10)*10 -> 142500 | K16: =INT((H16*'Valor Mod'!$H$6)/10)*10 -> 66500 | L16: =INT((I16*'Valor Mod'!$H$6)/10)*10 -> 28500
A17: =Nomenclador!A64 -> 5.11. Otros: Personal de Casas Particulares; Recibos mensuales, liquidación de aportes y contribuciones | G17: 6 | H17: 3 | I17: 1 | J17: =INT((G17*'Valor Mod'!$H$6)/10)*10 -> 57000 | K17: =INT((H17*'Valor Mod'!$H$6)/10)*10 -> 28500 | L17: =INT((I17*'Valor Mod'!$H$6)/10)*10 -> 9500
A18: =Nomenclador!A65 -> 5.12. Especiales UIF - Tareas relacionadas a Prevención del Lavado de Activos y Financiación del Terrorismo s/normativa referida a la actuación del contador público como auditor externo o síndico societario
A19: =Nomenclador!A66 -> 5.12.1. Cuando se deba dictaminar en EECC sobre utilización de métodos para cumplimentar con Prevención de Lavado de Activos y Financiamiento al Terrorismo (PLA/FT) por parte del ente. | F19: 15% Adicional Sobre Honorarios S/Tabla Anexo I
A20: =Nomenclador!A67 -> 5.12.2. Cuando el auditor cumplimente tareas para PLA/FT. | F20: 10% Adicional Sobre Honorarios S/Tabla Anexo I
A21: =Nomenclador!A68 -> 5.12.3. La confección del manual de procedimiento en Prevención de Lavado de Activos y Financiamiento al Terrorismo (PLA/FT). | F21: 90 | G21: 95 | H21: 68 | I21: 45 | J21: =INT((G21*'Valor Mod'!$H$6)/10)*10 -> 902500 | K21: =INT((H21*'Valor Mod'!$H$6)/10)*10 -> 646000 | L21: =INT((I21*'Valor Mod'!$H$6)/10)*10 -> 427500
A22: =Nomenclador!A69 -> 5.12.4. Implementación del sistema, una cantidad convenida con el comitente en función del VALOR HORA profesional ocupados en la tarea de implementación. | F22: =+G22 -> 5 | G22: 5 | H22: 3 | I22: 1 | J22: =INT((G22*'Valor Mod'!$H$6)/10)*10 -> 47500 | K22: =INT((H22*'Valor Mod'!$H$6)/10)*10 -> 28500 | L22: =INT((I22*'Valor Mod'!$H$6)/10)*10 -> 9500
A23: 6.1.Trabajo Mensual de Auditoría Interna y Externa: Planificación y Recopilación de la información contable sin emisión de Informe. Duración: 4 meses. | F23: 90 | G23: 90 | H23: 68 | I23: 34 | J23: =INT((G23*'Valor Mod'!$H$6)/10)*10 -> 855000 | K23: =INT((H23*'Valor Mod'!$H$6)/10)*10 -> 646000 | L23: =INT((I23*'Valor Mod'!$H$6)/10)*10 -> 323000

Sheet Auditoria
D1: NOMENCLADOR ENUNCIATIVO DE SERVICIOS PROFESIONALES HONORARIOS MINIMOS SUGERIDOS
A2: 6º-ACTUACION PROFESIONAL EN AUDITORÍA EXTERNA | F2: CANTIDAD DE MAPRO | G2: NIVEL DE COMPLEJIDAD | J2: IMPORTE
G3: ALTO | H3: MEDIO | I3: BAJO | J3: ALTO | K3: MEDIO | L3: BAJO
A4: =Nomenclador!A72 -> 6.1.Auditoría realizada a fin de emitir informes y dictámenes | F4: 200 | G4: =+F4/Complejidad!$B$17*Complejidad!$B$17 -> 200 | H4: =+F4/Complejidad!$B$17*Complejidad!$D$17 -> 150 | I4: =+F4/Complejidad!$B$17*Complejidad!$F$17 -> 75 | J4: =INT((G4*'Valor Mod'!$H$6)/10)*10 -> 1900000 | K4: =INT((H4*'Valor Mod'!$H$6)/10)*10 -> 1425000 | L4: =INT((I4*'Valor Mod'!$H$6)/10)*10 -> 712500 | N4: Certificación de Estados Contables
A5: =Nomenclador!A74 -> 6.2.Certificacion de Estados Contables y Manifestaciones de Bienes | F5: CONFORME A ESCALA SIGUIENTE | N5: Certificación sobre Manifestaciones de Bienes
A6: 6.2.1 Tipo de Certificación: | C6: Certificación de Estados Contables | J6: Seleccione una Opción P/Calculo
A8: ANEXO I - ESCALA DE HONORARIOS | G8: CÁLCULO INTERACTIVO DE HONORARIOS DE CERTIFICACION DE BALANCE Y MANIF DE BS
A9: 1. Emisión de Dictámenes e Informes sobre Estados Contables y Otros Informes
I10: EL MAYOR EN $ | K10: =IF(G13+I13>K13,G13+I13,K13) -> 0
I11: VALOR MODULO VIGENTE | K11: =+'Valor Mod'!H6 -> 9500
G12: ACTIVO | I12: PASIVO | K12: INGRESOS
A15: DESDE | B15: HASTA | D15: HONORARIOS MINIMOS SUGERIDOS
A16: $ | B16: $ | D16: FIJO | E16: ADICIONAL % | F16: Sobre Excedente de $ | I16: Honorarios | K16: Tasa
A17: 0 | B17: 3376000 | D17: =+K11*10 -> 95000 | E17: 0 | F17: 0 | I17: =IF(AND($K$10>A17,$K$10<=B17),D17+($K$10-F17)*E17/100,"") | K17: =IF(I17="",0,I17*0.1) -> 0
A18: =+B17+0.01 -> 3376000 | B18: 6758000 | D18: =+D17 -> 95000 | E18: 1.9784 | F18: =+B17 -> 3376000 | I18: =IF(AND($K$10>A18,$K$10<=B18),D18+($K$10-F18)*E18/100,"") | K18: =IF(I18="",0,I18*0.1) -> 0
A19: =+B18+0.01 -> 6758000 | B19: 10140000 | D19: =+(B18-F18)*E18/100+D18 -> 161909.49 | E19: 1.899 | F19: =+B18 -> 6758000 | I19: =IF(AND($K$10>A19,$K$10<=B19),D19+($K$10-F19)*E19/100,"") | K19: =IF(I19="",0,I19*0.1) -> 0
A20: =+B19+0.01 -> 10140000 | B20: 13520000 | D20: =+(B19-F19)*E19/100+D19 -> 226133.67 | E20: 1.788 | F20: =+B19 -> 10140000 | I20: =IF(AND($K$10>A20,$K$10<=B20),D20+($K$10-F20)*E20/100,"") | K20: =IF(I20="",0,I20*0.1) -> 0
A21: =+B20+0.01 -> 13520000 | B21: 16900000 | D21: =+(B20-F20)*E20/100+D20 -> 286568.07 | E21: 1.6911 | F21: =+B20 -> 13520000 | I21: =IF(AND($K$10>A21,$K$10<=B21),D21+($K$10-F21)*E21/100,"") | K21: =IF(I21="",0,I21*0.1) -> 0
A22: =+B21+0.01 -> 16900000 | B22: 20290000 | D22: =+(B21-F21)*E21/100+D21 -> 343727.25 | E22: 1.6441 | F22: =+B21 -> 16900000 | I22: =IF(AND($K$10>A22,$K$10<=B22),D22+($K$10-F22)*E22/100,"") | K22: =IF(I22="",0,I22*0.1) -> 0
A23: =+B22+0.01 -> 20290000 | B23: 27050000 | D23: =+(B22-F22)*E22/100+D22 -> 399462.24 | E23: 1.2918 | F23: =+B22 -> 20290000 | I23: =IF(AND($K$10>A23,$K$10<=B23),D23+($K$10-F23)*E23/100,"") | K23: =IF(I23="",0,I23*0.1) -> 0
A24: =+B23+0.01 -> 27050000 | B24: 33810000 | D24: =+(B23-F23)*E23/100+D23 -> 486787.92 | E24: 1.2518 | F24: =+B23 -> 27050000 | I24: =IF(AND($K$10>A24,$K$10<=B24),D24+($K$10-F24)*E24/100,"") | K24: =IF(I24="",0,I24*0.1) -> 0
A25: =+B24+0.01 -> 33810000 | B25: 43960000 | D25: =+(B24-F24)*E24/100+D24 -> 571409.6 | E25: 1.2048 | F25: =+B24 -> 33810000 | I25: =IF(AND($K$10>A25,$K$10<=B25),D25+($K$10-F25)*E25/100,"") | K25: =IF(I25="",0,I25*0.1) -> 0
A26: =+B25+0.01 -> 43960000 | B26: 54110000 | D26: =+(B25-F25)*E25/100+D25 -> 693696.8 | E26: 1.1578 | F26: =+B25 -> 43960000 | I26: =IF(AND($K$10>A26,$K$10<=B26),D26+($K$10-F26)*E26/100,"") | K26: =IF(I26="",0,I26*0.1) -> 0
A27: =+B26+0.01 -> 54110000 | B27: 67640000 | D27: =+(B26-F26)*E26/100+D26 -> 811213.5 | E27: 1.0378 | F27: =+B26 -> 54110000 | I27: =IF(AND($K$10>A27,$K$10<=B27),D27+($K$10-F27)*E27/100,"") | K27: =IF(I27="",0,I27*0.1) -> 0
A28: =+B27+0.01 -> 67640000 | B28: 84550000 | D28: =+(B27-F27)*E27/100+D27 -> 951627.84 | E28: 0.6811 | F28: =+B27 -> 67640000 | I28: =IF(AND($K$10>A28,$K$10<=B28),D28+($K$10-F28)*E28/100,"") | K28: =IF(I28="",0,I28*0.1) -> 0
A29: =+B28+0.01 -> 84550000 | B29: 169100000 | D29: =+(B28-F28)*E28/100+D28 -> 1066801.8 | E29: 0.4811 | F29: =+B28 -> 84550000 | I29: =IF(AND($K$10>A29,$K$10<=B29),D29+($K$10-F29)*E29/100,"") | K29: =IF(I29="",0,I29*0.1) -> 0
A30: =+B29+0.01 -> 1.691e+08 | B30: 270830000 | D30: =+(B29-F29)*E29/100+D29 -> 1473571.9 | E30: 0.3166 | F30: =+B29 -> 169100000 | I30: =IF(AND($K$10>A30,$K$10<=B30),D30+($K$10-F30)*E30/100,"") | K30: =IF(I30="",0,I30*0.1) -> 0
... A35: =+B34+0.01 -> 1.35284e+09 | B35: 2705680000 | D35: =+(B34-F34)*E34/100+D34 -> 4870255.4 | E35: 0.2523 | F35: =+B34 -> 1352840000 | I35: =IF(AND($K$10>A35,$K$10<=B35),D35+($K$10-F35)*E35/100,"") | K35: =IF(I35="",0,I35*0.1) -> 0
A36: =+B35+0.01 -> 2.70568e+09 | B36: …………. | D36: =+(B35-F35)*E35/100+D35 -> 8283470.8 | E36: 0.2294 | F36: =+B35 -> 2705680000 | I36: =IF(AND($K$10>A36,$K$10<=B36),D36+($K$10-F36)*E36/100,"") | K36: =IF(I36="",0,I36*0.1) -> 0
I37: =SUM(I17:I36) -> 0 | K37: =IF(I37="",0,I37*0.1) -> 0
A39: Detalle de Honorarios
A40: Base de Calculo | C40: =+K10 -> 0
A42: Honorarios Sugeridos | E42: =IF(C6="Certificación sobre Manifestaciones de Bienes",IF((I37/2)>D17,I37/2,D17),I37) -> 0 | H42: ARANCEL Certificación CPCEF | K42: =IF(C6="Certificación sobre Manifestaciones de Bienes",IF(K37>0+K11,K37/2,+K11),K37) -> 0

Sheet Valor Mod
A1: NOMENCLADOR ENUNCIATIVO DE SERVICIOS PROFESIONALES HONORARIOS MINIMOS SUGERIDOS
A3: VALOR PERMANENTE DEL MÓDULO EXPRESIVO DE LA UNIDAD DE HONORARIO PROFESIONAL A APLICAR
B5: UN (1) MAPRO | G5: 1
B6: (EQUIVALENTE A UN JORNAL DIARIO DEL SALARIO MÍNIMO VILTAL Y MÓVIL [ SMVM / 30 ] | H6: 9500

Sheet Complejidad
A1: NOMENCLADOR ENUNCIATIVO DE SERVICIOS PROFESIONALES HONORARIOS MINIMOS SUGERIDOS
A3: GRADO DE COMPLEJIDAD DE LA TAREA E INTERVENCION PROFESIONAL
A5: CRITERIOS EN LOS QUE SE FUNDA
B6: .Complejidad de la tarea
B7: .Tiempo de concreción
B8: .Urgencia
B9: .Características del cliente e importancia de intereses en juego
B10: .Nivel de especialización requedrido por intervenir y responsabilidad que involucra
B11: .Costos de infraestructura y propios de la tarea
B12: .Grado de experiencia que exige
D14: NIVEL DE COMPLEJIDAD
B15: ALTO | D15: MEDIO | F15: BAJO
C16: NIVEL DE COMPLEJIDAD EN MAPRO
B17: =+'Valor Mod'!G5*4 -> 4 | D17: =+'Valor Mod'!G5*3 -> 3 | F17: =+'Valor Mod'!G5*1.5 -> 1.5
C18: NIVEL DE COMPLEJIDAD EN PESOS(POR MAPRO)
B19: =+B17*'Valor Mod'!H6 -> 38000 | D19: =+D17*'Valor Mod'!H6 -> 28500 | F19: =+F17*'Valor Mod'!H6 -> 14250

Sheet Consultas Prof
C1: NOMENCLADOR ENUNCIATIVO DE SERVICIOS PROFESIONALES HONORARIOS MINIMOS SUGERIDOS
A2: 1º-CONSULTA PROFESIONAL | F2: CANTIDAD DE MAPRO | G2: NIVEL DE COMPLEJIDAD | J2: IMPORTE
G3: ALTO | H3: MEDIO | I3: BAJO | J3: ALTO | K3: MEDIO | L3: BAJO
A4: =Nomenclador!A6 -> 1.1. Consulta escrita | F4: 13 | G4: 13 | H4: 10 | I4: 5 | J4: =INT((G4*'Valor Mod'!$H$6)/10)*10 -> 123500 | K4: =INT((H4*'Valor Mod'!$H$6)/10)*10 -> 95000 | L4: =INT((I4*'Valor Mod'!$H$6)/10)*10 -> 47500
A5: =Nomenclador!A7 -> 1.2. Consulta verbal | F5: 8 | G5: 8 | H5: 6 | I5: 3 | J5: =INT((G5*'Valor Mod'!$H$6)/10)*10 -> 76000 | K5: =INT((H5*'Valor Mod'!$H$6)/10)*10 -> 57000 | L5: =INT((I5*'Valor Mod'!$H$6)/10)*10 -> 28500

Sheet Sociedades
C1: NOMENCLADOR ENUNCIATIVO DE SERVICIOS PROFESIONALES HONORARIOS MINIMOS SUGERIDOS
A2: 2º-ACTUACION PROFESIONAL EN MATERIA DE SOCIEDADES | F2: CANTIDAD DE MAPRO | G2: NIVEL DE COMPLEJIDAD | J2: IMPORTE
G3: ALTO | H3: MEDIO | I3: BAJO | J3: ALTO | K3: MEDIO | L3: BAJO
A4: =Nomenclador!A15 -> 2.1. Por cada representación con o sin patrocinio ante el Registro Público, Inspección General de Personas Jurídicas, Registro de Proveedores del Estado, Registro de Empresas y Variaciones de Costo Provincial, Municipalidad, y representaciones afines. | F4: =+G4 -> 25 | G4: 25 | H4: 10 | I4: 3 | J4: =INT((G4*'Valor Mod'!$H$6)/10)*10 -> 237500 | K4: =INT((H4*'Valor Mod'!$H$6)/10)*10 -> 95000 | L4: =INT((I4*'Valor Mod'!$H$6)/10)*10 -> 28500
A5: =Nomenclador!A16 -> 2.2. Por cada elaboración e inscripción de contrato o estatuto de sociedades comerciales, y sus modificaciones. | F5: =+G5 -> 100 | G5: 100 | H5: 50 | I5: 35 | J5: =INT((G5*'Valor Mod'!$H$6)/10)*10 -> 950000 | K5: =INT((H5*'Valor Mod'!$H$6)/10)*10 -> 475000 | L5: =INT((I5*'Valor Mod'!$H$6)/10)*10 -> 332500
A6: =Nomenclador!A17 -> 2.3. Por otras inscripciones o actos de representación no previstos, ante reparticiones fiscales, previsionales, sociales y administrativas | F6: 16 | G6: 16 | H6: 12 | I6: 6 | J6: =INT((G6*'Valor Mod'!$H$6)/10)*10 -> 152000 | K6: =INT((H6*'Valor Mod'!$H$6)/10)*10 -> 114000 | L6: =INT((I6*'Valor Mod'!$H$6)/10)*10 -> 57000

Sheet Laboral - Previsional
C1: NOMENCLADOR ENUNCIATIVO DE SERVICIOS PROFESIONALES HONORARIOS MINIMOS SUGERIDOS
A2: 3º-ACTUACION PROFESIONAL EN MATERIA LABORAL Y PREVISIONAL | F2: CANTIDAD DE MAPRO | G2: NIVEL DE COMPLEJIDAD | J2: IMPORTE
G3: ALTO | H3: MEDIO | I3: BAJO | J3: ALTO | K3: MEDIO | L3: BAJO
A4: =Nomenclador!A24 -> 3.1. Asesoramiento laboral, confección de recibos de sueldos y presentación de declaraciones juradas ante reparticiones previsionales, sociales, sindicales y fiscales.
B5: 1 a 3 | C5: empleados | F5: 12 | G5: 36 | H5: 27 | I5: 15 | J5: =INT((G5*'Valor Mod'!$H$6)/10)*10 -> 342000 | K5: =INT((H5*'Valor Mod'!$H$6)/10)*10 -> 256500 | L5: =INT((I5*'Valor Mod'!$H$6)/10)*10 -> 142500
B6: 4 a 10 | C6: empleados | F6: 20 | G6: 60 | H6: 45 | I6: 24 | J6: =INT((G6*'Valor Mod'!$H$6)/10)*10 -> 570000 | K6: =INT((H6*'Valor Mod'!$H$6)/10)*10 -> 427500 | L6: =INT((I6*'Valor Mod'!$H$6)/10)*10 -> 228000
B7: 11 a 40 | C7: empleados | F7: 36 | G7: 108 | H7: 81 | I7: 42 | J7: =INT((G7*'Valor Mod'!$H$6)/10)*10 -> 1026000 | K7: =INT((H7*'Valor Mod'!$H$6)/10)*10 -> 769500 | L7: =INT((I7*'Valor Mod'!$H$6)/10)*10 -> 399000
B8: 41 a 80 | C8: empleados | F8: 50 | G8: 150 | H8: 114 | I8: 57 | J8: =INT((G8*'Valor Mod'!$H$6)/10)*10 -> 1425000 | K8: =INT((H8*'Valor Mod'!$H$6)/10)*10 -> 1083000 | L8: =INT((I8*'Valor Mod'!$H$6)/10)*10 -> 541500
B9: 81 en adelante | C9: empleados | F9: 60 | G9: 180 | H9: 135 | I9: 69 | J9: =INT((G9*'Valor Mod'!$H$6)/10)*10 -> 1710000 | K9: =INT((H9*'Valor Mod'!$H$6)/10)*10 -> 1282500 | L9: =INT((I9*'Valor Mod'!$H$6)/10)*10 -> 655500
A10: =Nomenclador!A25 -> 3.2. Determinación de deudas previsionales, sociales y sindicales | F10: 6 | G10: 21 | H10: 15 | I10: 6 | J10: =INT((G10*'Valor Mod'!$H$6)/10)*10 -> 199500 | K10: =INT((H10*'Valor Mod'!$H$6)/10)*10 -> 142500 | L10: =INT((I10*'Valor Mod'!$H$6)/10)*10 -> 57000
A11: =Nomenclador!A26 -> 3.3. Actuación ante organismos laborales, previsionales, sociales o sindicales- participación en conciliaciones conciliaciones | F11: 20 | G11: 20 | H11: 15 | I11: 8 | J11: =INT((G11*'Valor Mod'!$H$6)/10)*10 -> 190000 | K11: =INT((H11*'Valor Mod'!$H$6)/10)*10 -> 142500 | L11: =INT((I11*'Valor Mod'!$H$6)/10)*10 -> 76000
A12: =Nomenclador!A27 -> 3.4. Inscripción Completa en organismos conexos a la actividad laboral, en materia previsional, social, y sindical | F12: 30 | G12: 30 | H12: 23 | I12: 11 | J12: =INT((G12*'Valor Mod'!$H$6)/10)*10 -> 285000 | K12: =INT((H12*'Valor Mod'!$H$6)/10)*10 -> 218500 | L12: =INT((I12*'Valor Mod'!$H$6)/10)*10 -> 104500

Sheet Tributaria
C1: NOMENCLADOR ENUNCIATIVO DE SERVICIOS PROFESIONALES HONORARIOS MINIMOS SUGERIDOS
A2: 4º- ACTUACION PROFESIONAL EN MATERIA TRIBUTARIA | F2: CANTIDAD DE MAPRO | G2: NIVEL DE COMPLEJIDAD | J2: IMPORTE
G3: ALTO | H3: MEDIO | I3: BAJO | J3: ALTO | K3: MEDIO | L3: BAJO
A4: =Nomenclador!A33 -> 4.1. Inscripción ante Reparticiones Fiscales-Nacionales-Provinciales-Municipales - Por impuestos y Tasas | F4: 16 | G4: 16 | H4: 12 | I4: 6 | J4: =INT((G4*'Valor Mod'!$H$6)/10)*10 -> 152000 | K4: =INT((H4*'Valor Mod'!$H$6)/10)*10 -> 114000 | L4: =INT((I4*'Valor Mod'!$H$6)/10)*10 -> 57000
A5: =Nomenclador!A34 -> 4.2. Determinación de Impuesto a las Ganancias - Personas humanas y sucesiones indivisas | F5: 40 | G5: 40 | H5: 30 | I5: 15 | J5: =INT((G5*'Valor Mod'!$H$6)/10)*10 -> 380000 | K5: =INT((H5*'Valor Mod'!$H$6)/10)*10 -> 285000 | L5: =INT((I5*'Valor Mod'!$H$6)/10)*10 -> 142500
A6: =Nomenclador!A35 -> 4.3. Determinación de Impuestos Cedulares | F6: 40 | G6: 15 | H6: 12 | I6: 6 | J6: =INT((G6*'Valor Mod'!$H$6)/10)*10 -> 142500 | K6: =INT((H6*'Valor Mod'!$H$6)/10)*10 -> 114000 | L6: =INT((I6*'Valor Mod'!$H$6)/10)*10 -> 57000
A7: =Nomenclador!A36 -> 4.4. Impuesto sobre bienes personales | F7: 22 | G7: 22 | H7: 17 | I7: 8 | J7: =INT((G7*'Valor Mod'!$H$6)/10)*10 -> 209000 | K7: =INT((H7*'Valor Mod'!$H$6)/10)*10 -> 161500 | L7: =INT((I7*'Valor Mod'!$H$6)/10)*10 -> 76000
A8: =+Nomenclador!A37 -> 4.5. Impuesto a las Ganancias - 4ta Cat DDJJ Informativa | F8: 15 | G8: 15 | H8: 12 | I8: 6 | J8: =INT((G8*'Valor Mod'!$H$6)/10)*10 -> 142500 | K8: =INT((H8*'Valor Mod'!$H$6)/10)*10 -> 114000 | L8: =INT((I8*'Valor Mod'!$H$6)/10)*10 -> 57000
A9: =Nomenclador!A38 -> 4.6. Impuesto al valor agregado e ingresos brutos provincial (Incluye Reg. Informativo) | F9: =+G9 -> 40 | G9: 40 | H9: 20 | I9: 12 | J9: =INT((G9*'Valor Mod'!$H$6)/10)*10 -> 380000 | K9: =INT((H9*'Valor Mod'!$H$6)/10)*10 -> 190000 | L9: =INT((I9*'Valor Mod'!$H$6)/10)*10 -> 114000
A10: =Nomenclador!A39 -> 4.7. Convenio Multilateral - CM05 Anual | F10: =+G10 -> 15 | G10: 15 | H10: 12 | I10: 6 | J10: =INT((G10*'Valor Mod'!$H$6)/10)*10 -> 142500 | K10: =INT((H10*'Valor Mod'!$H$6)/10)*10 -> 114000 | L10: =INT((I10*'Valor Mod'!$H$6)/10)*10 -> 57000
A11: =Nomenclador!A40 -> 4.8. Tasa de Registro e Inspección Municipal | F11: =+G11 -> 12 | G11: 12 | H11: 6 | I11: 3 | J11: =INT((G11*'Valor Mod'!$H$6)/10)*10 -> 114000 | K11: =INT((H11*'Valor Mod'!$H$6)/10)*10 -> 57000 | L11: =INT((I11*'Valor Mod'!$H$6)/10)*10 -> 28500
A12: =Nomenclador!A41 -> 4.9. Impuesto a los bienes personales - acciones y participaciones societarias | F12: 22 | G12: 22 | H12: 17 | I12: 8 | J12: =INT((G12*'Valor Mod'!$H$6)/10)*10 -> 209000 | K12: =INT((H12*'Valor Mod'!$H$6)/10)*10 -> 161500 | L12: =INT((I12*'Valor Mod'!$H$6)/10)*10 -> 76000
A13: =Nomenclador!A42 -> 4.10. Impuesto a las ganancias sociedades | F13: 50 | G13: 50 | H13: 38 | I13: 19 | J13: =INT((G13*'Valor Mod'!$H$6)/10)*10 -> 475000 | K13: =INT((H13*'Valor Mod'!$H$6)/10)*10 -> 361000 | L13: =INT((I13*'Valor Mod'!$H$6)/10)*10 -> 180500
A14: =Nomenclador!A43 -> 4.11. Régimen Informativo Acciones-Participaciones Societarias | F14: =+G14 -> 15 | G14: 15 | H14: 12 | I14: 6 | J14: =INT((G14*'Valor Mod'!$H$6)/10)*10 -> 142500 | K14: =INT((H14*'Valor Mod'!$H$6)/10)*10 -> 114000 | L14: =INT((I14*'Valor Mod'!$H$6)/10)*10 -> 57000
A15: =Nomenclador!A44 -> 4.12. Plan de facilidades de pago impositivo y moratorias: Valor según nivel de complejidad + 10% sobre ahorro obtenido | F15: 24 | G15: 22 | H15: 12 | I15: 8 | J15: =INT((G15*'Valor Mod'!$H$6)/10)*10 -> 209000 | K15: =INT((H15*'Valor Mod'!$H$6)/10)*10 -> 114000 | L15: =INT((I15*'Valor Mod'!$H$6)/10)*10 -> 76000
A16: =Nomenclador!A45 -> 4.13. Trámites especiales vinculados a regímenes de exteriorización de activos: Valor según nivel de complejidad + 1% sobre activo exteriorizado | G16: 25 | H16: 12 | I16: 8 | J16: =INT((G16*'Valor Mod'!$H$6)/10)*10 -> 237500 | K16: =INT((H16*'Valor Mod'!$H$6)/10)*10 -> 114000 | L16: =INT((I16*'Valor Mod'!$H$6)/10)*10 -> 76000
A17: =Nomenclador!A46 -> 4.14. Atención de Inspecciones Fiscales - (Sobre la Base Inicial Sujeta a Ajuste) | G17: Sobre la Base Inicial Sujeta a Ajuste | J17: 0.2 | K17: 0.15 | L17: 0.1
A18: =Nomenclador!A47 -> 4.15. Gestiones relativas a levantamiento de embargos y ejecuciones fiscales (Sobre la Base sujeta a embargo) | G18: Sobre la Base sujeta a embargo | J18: 0.15 | K18: 0.1 | L18: 0.06
